BEGIN:VCALENDAR
VERSION:2.0
PRODID:-//WIOA - ECPv6.15.20//NONSGML v1.0//EN
CALSCALE:GREGORIAN
METHOD:PUBLISH
X-WR-CALNAME:WIOA
X-ORIGINAL-URL:https://wioa.org.au
X-WR-CALDESC:Events for WIOA
REFRESH-INTERVAL;VALUE=DURATION:PT1H
X-Robots-Tag:noindex
X-PUBLISHED-TTL:PT1H
BEGIN:VTIMEZONE
TZID:Australia/Sydney
BEGIN:STANDARD
TZOFFSETFROM:+1100
TZOFFSETTO:+1000
TZNAME:AEST
DTSTART:20250405T160000
END:STANDARD
BEGIN:DAYLIGHT
TZOFFSETFROM:+1000
TZOFFSETTO:+1100
TZNAME:AEDT
DTSTART:20251004T160000
END:DAYLIGHT
BEGIN:STANDARD
TZOFFSETFROM:+1100
TZOFFSETTO:+1000
TZNAME:AEST
DTSTART:20260404T160000
END:STANDARD
BEGIN:DAYLIGHT
TZOFFSETFROM:+1000
TZOFFSETTO:+1100
TZNAME:AEDT
DTSTART:20261003T160000
END:DAYLIGHT
BEGIN:STANDARD
TZOFFSETFROM:+1100
TZOFFSETTO:+1000
TZNAME:AEST
DTSTART:20270403T160000
END:STANDARD
BEGIN:DAYLIGHT
TZOFFSETFROM:+1000
TZOFFSETTO:+1100
TZNAME:AEDT
DTSTART:20271002T160000
END:DAYLIGHT
END:VTIMEZONE
BEGIN:VTIMEZONE
TZID:Australia/Brisbane
BEGIN:STANDARD
TZOFFSETFROM:+1000
TZOFFSETTO:+1000
TZNAME:AEST
DTSTART:20250101T000000
END:STANDARD
END:VTIMEZONE
BEGIN:VEVENT
DTSTART;TZID=Australia/Sydney:20260430T140000
DTEND;TZID=Australia/Sydney:20260430T170000
DTSTAMP:20260425T015734
CREATED:20260401T054656Z
LAST-MODIFIED:20260401T061604Z
UID:10000133-1777557600-1777568400@wioa.org.au
SUMMARY:SA Interest Day | Adelaide
DESCRIPTION:Step into a leadership role shaping the future of women in water operations! We’re seeking passionate people to help guide the WiWO Network as it grows\, evolves\, and champions a more inclusive and empowered water operations workforce. Our new Steering Committee will oversee the direction of the WiWO Network and its alignment with the strategic plan and its mission to: 								\n				\n				\n		\n				\n				\n																														\n				\n				\n					\n				\n		\n					\n		\n				\n				\n									‘Establish a thriving network that builds an industry culture where women are empowered and celebrated\, barriers are reduced\, and water operations is an attractive\, viable and visible career path for everyone.’  								\n				\n				\n				\n				\n									As a committee member you will ensure alignment with WIOA’s overall vision to be a trusted partner with the water industry operations sector\, via knowledge sharing\, networking\, and professional development. Who should nominate?Do you have a passion for driving change and supporting women in a diverse range of operational roles within the water sector?Do you want to be part of a committee dedicated to growing the Network and supporting network initiatives?Are you able to commit approximately 3 hours per quarter to online committee meetings?Are you able to support the delivery of webinars and industry events run by the network (Approximately 1.5 days per year)?Are you a financial WIOA member?								\n				\n				\n				\n							\n							\n					\n											\n														\n							\n					\n											\n														\n							\n					\n											\n														\n					\n					\n				\n				\n				\n									What you will do:Be an advocate for women in water operations and champion their incredible contributions.Take part in shaping a national network that attracts and retains women to the sector.Connect with incredible women and their allies both nationally and internationally.Engage with other sector agencies to build partnerships and leverage resources that support women in the industry.Contribute to shaping an industry culture that celebrates and unites women working in water and their allies.Support the delivery of publications\, webinars\, and online and in-person networking events.CommencementNominations close: Friday 10th April\, 2026.Commencement in the role: May 2026.								\n				\n					\n				\n		\n					\n				\n				\n					Nominate Now				\n				\n				\n				\n									If you’re ready to make an impact\, strengthen industry culture\, and help pave the way for future generations then submit your nomination today! 								\n				\n		\n				\n				\n									\n					\n						\n									Nomination Form\n					\n					\n				\n								\n				\n				\n				\n									\n					\n						\n									View Terms of Reference
URL:https://wioa.org.au/event/sa-interest-day-adelaide/
LOCATION:Osmoflo\, 382 Diment Road\, Burton\, South Australia 5110
CATEGORIES:Interest Days
ATTACH;FMTTYPE=image/svg+xml:https://wioa.org.au/wp-content/uploads/2026/04/2026_Interest-Day-Digital-Banner-3.svg
ORGANIZER;CN="WIOA":MAILTO:info@wioa.org.au
END:VEVENT
BEGIN:VEVENT
DTSTART;TZID=Australia/Sydney:20260506T100000
DTEND;TZID=Australia/Sydney:20260506T150000
DTSTAMP:20260425T015734
CREATED:20260216T055944Z
LAST-MODIFIED:20260402T035647Z
UID:10000126-1778061600-1778079600@wioa.org.au
SUMMARY:WA Interest Day | Albany
DESCRIPTION:Step into a leadership role shaping the future of women in water operations! We’re seeking passionate people to help guide the WiWO Network as it grows\, evolves\, and champions a more inclusive and empowered water operations workforce. Our new Steering Committee will oversee the direction of the WiWO Network and its alignment with the strategic plan and its mission to: 								\n				\n				\n		\n				\n				\n																														\n				\n				\n					\n				\n		\n					\n		\n				\n				\n									‘Establish a thriving network that builds an industry culture where women are empowered and celebrated\, barriers are reduced\, and water operations is an attractive\, viable and visible career path for everyone.’  								\n				\n				\n				\n				\n									As a committee member you will ensure alignment with WIOA’s overall vision to be a trusted partner with the water industry operations sector\, via knowledge sharing\, networking\, and professional development. Who should nominate?Do you have a passion for driving change and supporting women in a diverse range of operational roles within the water sector?Do you want to be part of a committee dedicated to growing the Network and supporting network initiatives?Are you able to commit approximately 3 hours per quarter to online committee meetings?Are you able to support the delivery of webinars and industry events run by the network (Approximately 1.5 days per year)?Are you a financial WIOA member?								\n				\n				\n				\n							\n							\n					\n											\n														\n							\n					\n											\n														\n							\n					\n											\n														\n					\n					\n				\n				\n				\n									What you will do:Be an advocate for women in water operations and champion their incredible contributions.Take part in shaping a national network that attracts and retains women to the sector.Connect with incredible women and their allies both nationally and internationally.Engage with other sector agencies to build partnerships and leverage resources that support women in the industry.Contribute to shaping an industry culture that celebrates and unites women working in water and their allies.Support the delivery of publications\, webinars\, and online and in-person networking events.CommencementNominations close: Friday 10th April\, 2026.Commencement in the role: May 2026.								\n				\n					\n				\n		\n					\n				\n				\n					Nominate Now				\n				\n				\n				\n									If you’re ready to make an impact\, strengthen industry culture\, and help pave the way for future generations then submit your nomination today! 								\n				\n		\n				\n				\n									\n					\n						\n									Nomination Form\n					\n					\n				\n								\n				\n				\n				\n									\n					\n						\n									View Terms of Reference
URL:https://wioa.org.au/event/wa-interest-day-albany/
LOCATION:Retravision Stadium\, 156 Lockyer Avenue\, Centennial Park\, WA\, 6330\, Australia
CATEGORIES:Interest Days
ATTACH;FMTTYPE=image/svg+xml:https://wioa.org.au/wp-content/uploads/2026/02/2026_Interest-Day-Digital-Banner-2-1.svg
ORGANIZER;CN="WIOA":MAILTO:info@wioa.org.au
END:VEVENT
BEGIN:VEVENT
DTSTART;TZID=Australia/Brisbane:20260507T100000
DTEND;TZID=Australia/Brisbane:20260507T150000
DTSTAMP:20260425T015734
CREATED:20260417T042713Z
LAST-MODIFIED:20260417T042713Z
UID:10000128-1778148000-1778166000@wioa.org.au
SUMMARY:NSW Interest Day | Mid Coast Region
DESCRIPTION:Step into a leadership role shaping the future of women in water operations! We’re seeking passionate people to help guide the WiWO Network as it grows\, evolves\, and champions a more inclusive and empowered water operations workforce. Our new Steering Committee will oversee the direction of the WiWO Network and its alignment with the strategic plan and its mission to: 								\n				\n				\n		\n				\n				\n																														\n				\n				\n					\n				\n		\n					\n		\n				\n				\n									‘Establish a thriving network that builds an industry culture where women are empowered and celebrated\, barriers are reduced\, and water operations is an attractive\, viable and visible career path for everyone.’  								\n				\n				\n				\n				\n									As a committee member you will ensure alignment with WIOA’s overall vision to be a trusted partner with the water industry operations sector\, via knowledge sharing\, networking\, and professional development. Who should nominate?Do you have a passion for driving change and supporting women in a diverse range of operational roles within the water sector?Do you want to be part of a committee dedicated to growing the Network and supporting network initiatives?Are you able to commit approximately 3 hours per quarter to online committee meetings?Are you able to support the delivery of webinars and industry events run by the network (Approximately 1.5 days per year)?Are you a financial WIOA member?								\n				\n				\n				\n							\n							\n					\n											\n														\n							\n					\n											\n														\n							\n					\n											\n														\n					\n					\n				\n				\n				\n									What you will do:Be an advocate for women in water operations and champion their incredible contributions.Take part in shaping a national network that attracts and retains women to the sector.Connect with incredible women and their allies both nationally and internationally.Engage with other sector agencies to build partnerships and leverage resources that support women in the industry.Contribute to shaping an industry culture that celebrates and unites women working in water and their allies.Support the delivery of publications\, webinars\, and online and in-person networking events.CommencementNominations close: Friday 10th April\, 2026.Commencement in the role: May 2026.								\n				\n					\n				\n		\n					\n				\n				\n					Nominate Now				\n				\n				\n				\n									If you’re ready to make an impact\, strengthen industry culture\, and help pave the way for future generations then submit your nomination today! 								\n				\n		\n				\n				\n									\n					\n						\n									Nomination Form\n					\n					\n				\n								\n				\n				\n				\n									\n					\n						\n									View Terms of Reference
URL:https://wioa.org.au/event/nsw-interest-day-26midcoast/
LOCATION:Bootawa Auditorium\, 283 Bootawa Dam Road\, Bootawa\, NSW\, 2430\, Australia
CATEGORIES:Interest Days
ATTACH;FMTTYPE=image/svg+xml:https://wioa.org.au/wp-content/uploads/2026/04/2026_Interest-Day-Digital-Banner-5.svg
ORGANIZER;CN="WIOA":MAILTO:info@wioa.org.au
END:VEVENT
BEGIN:VEVENT
DTSTART;TZID=Australia/Brisbane:20260508T233000
DTEND;TZID=Australia/Brisbane:20260508T233000
DTSTAMP:20260425T015734
CREATED:20260305T223328Z
LAST-MODIFIED:20260324T001007Z
UID:10000130-1778283000-1778283000@wioa.org.au
SUMMARY:Abstracts Due | 2026 QLD Water Industry Operations Conference
DESCRIPTION:Step into a leadership role shaping the future of women in water operations! We’re seeking passionate people to help guide the WiWO Network as it grows\, evolves\, and champions a more inclusive and empowered water operations workforce. Our new Steering Committee will oversee the direction of the WiWO Network and its alignment with the strategic plan and its mission to: 								\n				\n				\n		\n				\n				\n																														\n				\n				\n					\n				\n		\n					\n		\n				\n				\n									‘Establish a thriving network that builds an industry culture where women are empowered and celebrated\, barriers are reduced\, and water operations is an attractive\, viable and visible career path for everyone.’  								\n				\n				\n				\n				\n									As a committee member you will ensure alignment with WIOA’s overall vision to be a trusted partner with the water industry operations sector\, via knowledge sharing\, networking\, and professional development. Who should nominate?Do you have a passion for driving change and supporting women in a diverse range of operational roles within the water sector?Do you want to be part of a committee dedicated to growing the Network and supporting network initiatives?Are you able to commit approximately 3 hours per quarter to online committee meetings?Are you able to support the delivery of webinars and industry events run by the network (Approximately 1.5 days per year)?Are you a financial WIOA member?								\n				\n				\n				\n							\n							\n					\n											\n														\n							\n					\n											\n														\n							\n					\n											\n														\n					\n					\n				\n				\n				\n									What you will do:Be an advocate for women in water operations and champion their incredible contributions.Take part in shaping a national network that attracts and retains women to the sector.Connect with incredible women and their allies both nationally and internationally.Engage with other sector agencies to build partnerships and leverage resources that support women in the industry.Contribute to shaping an industry culture that celebrates and unites women working in water and their allies.Support the delivery of publications\, webinars\, and online and in-person networking events.CommencementNominations close: Friday 10th April\, 2026.Commencement in the role: May 2026.								\n				\n					\n				\n		\n					\n				\n				\n					Nominate Now				\n				\n				\n				\n									If you’re ready to make an impact\, strengthen industry culture\, and help pave the way for future generations then submit your nomination today! 								\n				\n		\n				\n				\n									\n					\n						\n									Nomination Form\n					\n					\n				\n								\n				\n				\n				\n									\n					\n						\n									View Terms of Reference
URL:https://wioa.org.au/event/abstracts-due-2026-qld-water-industry-operations-conference/
LOCATION:Gold Coast Sports and Leisure Centre\, 296 Nerang Broadbeach Rd\, Gold Coast\, Queensland\, 4211
CATEGORIES:2026 QLD Conference
ATTACH;FMTTYPE=image/png:https://wioa.org.au/wp-content/uploads/2026/03/QLD_Abstracts_2026.png
ORGANIZER;CN="WIOA":MAILTO:info@wioa.org.au
END:VEVENT
BEGIN:VEVENT
DTSTART;TZID=Australia/Brisbane:20260624T080000
DTEND;TZID=Australia/Brisbane:20260625T223000
DTSTAMP:20260425T015734
CREATED:20250812T034517Z
LAST-MODIFIED:20260409T054859Z
UID:10000111-1782288000-1782426600@wioa.org.au
SUMMARY:2026 QLD Water Industry Operations Conference & Exhibition
DESCRIPTION:Step into a leadership role shaping the future of women in water operations! We’re seeking passionate people to help guide the WiWO Network as it grows\, evolves\, and champions a more inclusive and empowered water operations workforce. Our new Steering Committee will oversee the direction of the WiWO Network and its alignment with the strategic plan and its mission to: 								\n				\n				\n		\n				\n				\n																														\n				\n				\n					\n				\n		\n					\n		\n				\n				\n									‘Establish a thriving network that builds an industry culture where women are empowered and celebrated\, barriers are reduced\, and water operations is an attractive\, viable and visible career path for everyone.’  								\n				\n				\n				\n				\n									As a committee member you will ensure alignment with WIOA’s overall vision to be a trusted partner with the water industry operations sector\, via knowledge sharing\, networking\, and professional development. Who should nominate?Do you have a passion for driving change and supporting women in a diverse range of operational roles within the water sector?Do you want to be part of a committee dedicated to growing the Network and supporting network initiatives?Are you able to commit approximately 3 hours per quarter to online committee meetings?Are you able to support the delivery of webinars and industry events run by the network (Approximately 1.5 days per year)?Are you a financial WIOA member?								\n				\n				\n				\n							\n							\n					\n											\n														\n							\n					\n											\n														\n							\n					\n											\n														\n					\n					\n				\n				\n				\n									What you will do:Be an advocate for women in water operations and champion their incredible contributions.Take part in shaping a national network that attracts and retains women to the sector.Connect with incredible women and their allies both nationally and internationally.Engage with other sector agencies to build partnerships and leverage resources that support women in the industry.Contribute to shaping an industry culture that celebrates and unites women working in water and their allies.Support the delivery of publications\, webinars\, and online and in-person networking events.CommencementNominations close: Friday 10th April\, 2026.Commencement in the role: May 2026.								\n				\n					\n				\n		\n					\n				\n				\n					Nominate Now				\n				\n				\n				\n									If you’re ready to make an impact\, strengthen industry culture\, and help pave the way for future generations then submit your nomination today! 								\n				\n		\n				\n				\n									\n					\n						\n									Nomination Form\n					\n					\n				\n								\n				\n				\n				\n									\n					\n						\n									View Terms of Reference
URL:https://wioa.org.au/event/2026-qld-water-industry-operations-conference-exhibition/
LOCATION:Gold Coast Sports and Leisure Centre\, 296 Nerang Broadbeach Rd\, Gold Coast\, Queensland\, 4211
CATEGORIES:2026 QLD Conference,Best Tasting Tap Water,Conferences,Water of Origin
ATTACH;FMTTYPE=image/svg+xml:https://wioa.org.au/wp-content/uploads/2025/08/Agend_Events-4.svg
ORGANIZER;CN="WIOA":MAILTO:info@wioa.org.au
END:VEVENT
BEGIN:VEVENT
DTSTART;TZID=Australia/Sydney:20260722T100000
DTEND;TZID=Australia/Sydney:20260722T150000
DTSTAMP:20260425T015734
CREATED:20260310T031857Z
LAST-MODIFIED:20260310T215657Z
UID:10000127-1784714400-1784732400@wioa.org.au
SUMMARY:WA Super Interest Day | Shenton Park
DESCRIPTION:Step into a leadership role shaping the future of women in water operations! We’re seeking passionate people to help guide the WiWO Network as it grows\, evolves\, and champions a more inclusive and empowered water operations workforce. Our new Steering Committee will oversee the direction of the WiWO Network and its alignment with the strategic plan and its mission to: 								\n				\n				\n		\n				\n				\n																														\n				\n				\n					\n				\n		\n					\n		\n				\n				\n									‘Establish a thriving network that builds an industry culture where women are empowered and celebrated\, barriers are reduced\, and water operations is an attractive\, viable and visible career path for everyone.’  								\n				\n				\n				\n				\n									As a committee member you will ensure alignment with WIOA’s overall vision to be a trusted partner with the water industry operations sector\, via knowledge sharing\, networking\, and professional development. Who should nominate?Do you have a passion for driving change and supporting women in a diverse range of operational roles within the water sector?Do you want to be part of a committee dedicated to growing the Network and supporting network initiatives?Are you able to commit approximately 3 hours per quarter to online committee meetings?Are you able to support the delivery of webinars and industry events run by the network (Approximately 1.5 days per year)?Are you a financial WIOA member?								\n				\n				\n				\n							\n							\n					\n											\n														\n							\n					\n											\n														\n							\n					\n											\n														\n					\n					\n				\n				\n				\n									What you will do:Be an advocate for women in water operations and champion their incredible contributions.Take part in shaping a national network that attracts and retains women to the sector.Connect with incredible women and their allies both nationally and internationally.Engage with other sector agencies to build partnerships and leverage resources that support women in the industry.Contribute to shaping an industry culture that celebrates and unites women working in water and their allies.Support the delivery of publications\, webinars\, and online and in-person networking events.CommencementNominations close: Friday 10th April\, 2026.Commencement in the role: May 2026.								\n				\n					\n				\n		\n					\n				\n				\n					Nominate Now				\n				\n				\n				\n									If you’re ready to make an impact\, strengthen industry culture\, and help pave the way for future generations then submit your nomination today! 								\n				\n		\n				\n				\n									\n					\n						\n									Nomination Form\n					\n					\n				\n								\n				\n				\n				\n									\n					\n						\n									View Terms of Reference
URL:https://wioa.org.au/event/wa-interest-day-shenton-park/
LOCATION:Water Corporation Training Centre\, 37 Lemnos Street\, Shenton Park\, WA\, 6008\, Australia
CATEGORIES:Interest Days
ATTACH;FMTTYPE=image/svg+xml:https://wioa.org.au/wp-content/uploads/2026/03/2026_Interest-Day-Digital-Banner-5.svg
ORGANIZER;CN="WIOA":MAILTO:info@wioa.org.au
END:VEVENT
BEGIN:VEVENT
DTSTART;TZID=Australia/Sydney:20260724T233000
DTEND;TZID=Australia/Sydney:20260724T233000
DTSTAMP:20260425T015734
CREATED:20260305T222712Z
LAST-MODIFIED:20260305T222757Z
UID:10000129-1784935800-1784935800@wioa.org.au
SUMMARY:Abstracts Due | 2026 NSW Water Industry Operations Conference
DESCRIPTION:Step into a leadership role shaping the future of women in water operations! We’re seeking passionate people to help guide the WiWO Network as it grows\, evolves\, and champions a more inclusive and empowered water operations workforce. Our new Steering Committee will oversee the direction of the WiWO Network and its alignment with the strategic plan and its mission to: 								\n				\n				\n		\n				\n				\n																														\n				\n				\n					\n				\n		\n					\n		\n				\n				\n									‘Establish a thriving network that builds an industry culture where women are empowered and celebrated\, barriers are reduced\, and water operations is an attractive\, viable and visible career path for everyone.’  								\n				\n				\n				\n				\n									As a committee member you will ensure alignment with WIOA’s overall vision to be a trusted partner with the water industry operations sector\, via knowledge sharing\, networking\, and professional development. Who should nominate?Do you have a passion for driving change and supporting women in a diverse range of operational roles within the water sector?Do you want to be part of a committee dedicated to growing the Network and supporting network initiatives?Are you able to commit approximately 3 hours per quarter to online committee meetings?Are you able to support the delivery of webinars and industry events run by the network (Approximately 1.5 days per year)?Are you a financial WIOA member?								\n				\n				\n				\n							\n							\n					\n											\n														\n							\n					\n											\n														\n							\n					\n											\n														\n					\n					\n				\n				\n				\n									What you will do:Be an advocate for women in water operations and champion their incredible contributions.Take part in shaping a national network that attracts and retains women to the sector.Connect with incredible women and their allies both nationally and internationally.Engage with other sector agencies to build partnerships and leverage resources that support women in the industry.Contribute to shaping an industry culture that celebrates and unites women working in water and their allies.Support the delivery of publications\, webinars\, and online and in-person networking events.CommencementNominations close: Friday 10th April\, 2026.Commencement in the role: May 2026.								\n				\n					\n				\n		\n					\n				\n				\n					Nominate Now				\n				\n				\n				\n									If you’re ready to make an impact\, strengthen industry culture\, and help pave the way for future generations then submit your nomination today! 								\n				\n		\n				\n				\n									\n					\n						\n									Nomination Form\n					\n					\n				\n								\n				\n				\n				\n									\n					\n						\n									View Terms of Reference
URL:https://wioa.org.au/event/abstracts-due-2026-nsw-water-industry-operations-conference/
LOCATION:Newcastle Racecourse\, 100 Darling Street\, Newcastle\, NSW\, 2292\, Australia
CATEGORIES:2026 NSW Conference
ATTACH;FMTTYPE=image/png:https://wioa.org.au/wp-content/uploads/2026/03/NSW_Abracts_2026.png
ORGANIZER;CN="WIOA":MAILTO:info@wioa.org.au
END:VEVENT
BEGIN:VEVENT
DTSTART;TZID=Australia/Sydney:20260909T080000
DTEND;TZID=Australia/Sydney:20260910T223000
DTSTAMP:20260425T015734
CREATED:20250812T035051Z
LAST-MODIFIED:20250812T041330Z
UID:10000112-1788940800-1789079400@wioa.org.au
SUMMARY:2026 NSW Water Industry Operations Conference & Exhibition
DESCRIPTION:Step into a leadership role shaping the future of women in water operations! We’re seeking passionate people to help guide the WiWO Network as it grows\, evolves\, and champions a more inclusive and empowered water operations workforce. Our new Steering Committee will oversee the direction of the WiWO Network and its alignment with the strategic plan and its mission to: 								\n				\n				\n		\n				\n				\n																														\n				\n				\n					\n				\n		\n					\n		\n				\n				\n									‘Establish a thriving network that builds an industry culture where women are empowered and celebrated\, barriers are reduced\, and water operations is an attractive\, viable and visible career path for everyone.’  								\n				\n				\n				\n				\n									As a committee member you will ensure alignment with WIOA’s overall vision to be a trusted partner with the water industry operations sector\, via knowledge sharing\, networking\, and professional development. Who should nominate?Do you have a passion for driving change and supporting women in a diverse range of operational roles within the water sector?Do you want to be part of a committee dedicated to growing the Network and supporting network initiatives?Are you able to commit approximately 3 hours per quarter to online committee meetings?Are you able to support the delivery of webinars and industry events run by the network (Approximately 1.5 days per year)?Are you a financial WIOA member?								\n				\n				\n				\n							\n							\n					\n											\n														\n							\n					\n											\n														\n							\n					\n											\n														\n					\n					\n				\n				\n				\n									What you will do:Be an advocate for women in water operations and champion their incredible contributions.Take part in shaping a national network that attracts and retains women to the sector.Connect with incredible women and their allies both nationally and internationally.Engage with other sector agencies to build partnerships and leverage resources that support women in the industry.Contribute to shaping an industry culture that celebrates and unites women working in water and their allies.Support the delivery of publications\, webinars\, and online and in-person networking events.CommencementNominations close: Friday 10th April\, 2026.Commencement in the role: May 2026.								\n				\n					\n				\n		\n					\n				\n				\n					Nominate Now				\n				\n				\n				\n									If you’re ready to make an impact\, strengthen industry culture\, and help pave the way for future generations then submit your nomination today! 								\n				\n		\n				\n				\n									\n					\n						\n									Nomination Form\n					\n					\n				\n								\n				\n				\n				\n									\n					\n						\n									View Terms of Reference
URL:https://wioa.org.au/event/2026-nsw-water-industry-operations-conference-exhibition/
LOCATION:Newcastle Racecourse\, 100 Darling Street\, Newcastle\, NSW\, 2292\, Australia
CATEGORIES:Best Tasting Tap Water,Conferences,Water of Origin
ATTACH;FMTTYPE=image/jpeg:https://wioa.org.au/wp-content/uploads/2025/08/47.jpg
ORGANIZER;CN="WIOA":MAILTO:info@wioa.org.au
END:VEVENT
END:VCALENDAR